BEGIN:VCALENDAR
VERSION:2.0
PRODID:-//Canadian Association of Research Libraries - ECPv6.15.20//NONSGML v1.0//EN
CALSCALE:GREGORIAN
METHOD:PUBLISH
X-WR-CALNAME:Canadian Association of Research Libraries
X-ORIGINAL-URL:https://www.carl-abrc.ca
X-WR-CALDESC:Events for Canadian Association of Research Libraries
REFRESH-INTERVAL;VALUE=DURATION:PT1H
X-Robots-Tag:noindex
X-PUBLISHED-TTL:PT1H
BEGIN:VTIMEZONE
TZID:America/Toronto
BEGIN:DAYLIGHT
TZOFFSETFROM:-0500
TZOFFSETTO:-0400
TZNAME:EDT
DTSTART:20240310T070000
END:DAYLIGHT
BEGIN:STANDARD
TZOFFSETFROM:-0400
TZOFFSETTO:-0500
TZNAME:EST
DTSTART:20241103T060000
END:STANDARD
BEGIN:DAYLIGHT
TZOFFSETFROM:-0500
TZOFFSETTO:-0400
TZNAME:EDT
DTSTART:20250309T070000
END:DAYLIGHT
BEGIN:STANDARD
TZOFFSETFROM:-0400
TZOFFSETTO:-0500
TZNAME:EST
DTSTART:20251102T060000
END:STANDARD
BEGIN:DAYLIGHT
TZOFFSETFROM:-0500
TZOFFSETTO:-0400
TZNAME:EDT
DTSTART:20260308T070000
END:DAYLIGHT
BEGIN:STANDARD
TZOFFSETFROM:-0400
TZOFFSETTO:-0500
TZNAME:EST
DTSTART:20261101T060000
END:STANDARD
END:VTIMEZONE
BEGIN:VEVENT
DTSTART;TZID=America/Toronto:20251114T120000
DTEND;TZID=America/Toronto:20251114T130000
DTSTAMP:20260421T054607
CREATED:20251023T153517Z
LAST-MODIFIED:20251023T153517Z
UID:38227-1763121600-1763125200@www.carl-abrc.ca
SUMMARY:Assessment Community of Practice November Call: Library User Surveys & Consortium Participation in Canada
DESCRIPTION:Date: November 14\, 2025\nTime: 12:00pm-1:00pm ET \nRegistration \nAre you weighing the pros and cons of running a user survey in your library and wondering about prepackaged options available? Canadian academic libraries have relied on tools like LibQUAL+\, Insync\, and Library Life Pulse to assess user needs and satisfaction\, but which tool will deliver the most useful insights for your institution?  \nJoin the Assessment Community of Practice to share and listen to experiences with all three survey instruments (advantages and limitations)\, plus the option for a “made in Canada”\, homegrown survey. This is a discussion-based session—come prepared to share your experiences\, ask critical questions\, and learn from your colleagues’ successes and challenges. As this CoP session will mostly consist of participant discussion\, the session will not be recorded.
URL:https://www.carl-abrc.ca/event/assessment-community-of-practice-november-call-library-user-surveys-consortium-participation-in-canada/
LOCATION:Online Event
CATEGORIES:Assessment
ATTACH;FMTTYPE=image/jpeg:https://www.carl-abrc.ca/wp-content/uploads/2025/04/CoP-Department-Image.jpg
END:VEVENT
END:VCALENDAR