BEGIN:VCALENDAR
VERSION:2.0
PRODID:-//Canadian Association of Research Libraries - ECPv6.15.20//NONSGML v1.0//EN
CALSCALE:GREGORIAN
METHOD:PUBLISH
X-WR-CALNAME:Canadian Association of Research Libraries
X-ORIGINAL-URL:https://www.carl-abrc.ca
X-WR-CALDESC:Events for Canadian Association of Research Libraries
REFRESH-INTERVAL;VALUE=DURATION:PT1H
X-Robots-Tag:noindex
X-PUBLISHED-TTL:PT1H
BEGIN:VTIMEZONE
TZID:America/Toronto
BEGIN:DAYLIGHT
TZOFFSETFROM:-0500
TZOFFSETTO:-0400
TZNAME:EDT
DTSTART:20230312T070000
END:DAYLIGHT
BEGIN:STANDARD
TZOFFSETFROM:-0400
TZOFFSETTO:-0500
TZNAME:EST
DTSTART:20231105T060000
END:STANDARD
BEGIN:DAYLIGHT
TZOFFSETFROM:-0500
TZOFFSETTO:-0400
TZNAME:EDT
DTSTART:20240310T070000
END:DAYLIGHT
BEGIN:STANDARD
TZOFFSETFROM:-0400
TZOFFSETTO:-0500
TZNAME:EST
DTSTART:20241103T060000
END:STANDARD
BEGIN:DAYLIGHT
TZOFFSETFROM:-0500
TZOFFSETTO:-0400
TZNAME:EDT
DTSTART:20250309T070000
END:DAYLIGHT
BEGIN:STANDARD
TZOFFSETFROM:-0400
TZOFFSETTO:-0500
TZNAME:EST
DTSTART:20251102T060000
END:STANDARD
END:VTIMEZONE
BEGIN:VEVENT
DTSTART;TZID=America/Toronto:20240926T130000
DTEND;TZID=America/Toronto:20240926T140000
DTSTAMP:20260423T184940
CREATED:20250404T203556Z
LAST-MODIFIED:20250423T200019Z
UID:36638-1727355600-1727359200@www.carl-abrc.ca
SUMMARY:CARL Bibliometrics and Research Impact Community of Practice September Call – Metrics and Impacts for Library Publishing Programs
DESCRIPTION:Date: Thursday\, September 26\, 2024\nTime: 1:00 – 2:00 p.m. ET \nRegistration \nWe invite those across Canada interested in bibliometrics and research impact indicators to join this month’s call of the CARL Bibliometrics and Research Impact (BRI) Community of Practice for a session about metrics and impacts for library publishing programs. \nThis month’s call\, led by Tomasz Mrozewski (York) and Katie Cuyler (Alberta)\, will provide an overview of the use of journal metrics by library publishers. Specifically\, the speakers will discuss metric use by their institution’s scholarly journal publishing programs. This will include an introduction to library publishing in Canada\, general metric needs\, available resources\, current activities\, and challenges. \nTomasz Mrozewski is the Digital Publishing Librarian at York University Libraries\, where he has administered the York Digital Journals (YDJ) publishing program since 2019. YDJ hosts content for 60 active and discontinued\, faculty- and student-led journals – most of them Open Access. Prior to working at York\, he was the Data\, GIS\, and Government Documents Librarian at Laurentian University. Bien que plus à l’aise en anglais\, Tomasz vous invite à poser des questions et à discuter en français. \nKatie Cuyler is the Open Publishing and Government Information Librarian at the University of Alberta Library (UAL). She has been working with Open Publishing since January 2023\, and has been with the University as a Public Services Librarian since 2016. UAL has supported open access scholarly journal publishing since 2007\, and is currently working with 74 actively publishing journals. Prior to working at the University of Alberta\, Katie was an Intelligence Strategist at Bennett Jones LLP. \nThis session will be recorded and made available for the broader community. 
URL:https://www.carl-abrc.ca/event/carl-bibliometrics-and-research-impact-community-of-practice-september-call-metrics-and-impacts-for-library-publishing-programs/
LOCATION:Online Event
CATEGORIES:Bibliometrics & Research Impact
ATTACH;FMTTYPE=image/jpeg:https://www.carl-abrc.ca/wp-content/uploads/2024/09/NewsFeaturedImage-1.jpg
END:VEVENT
END:VCALENDAR