BEGIN:VCALENDAR
VERSION:2.0
PRODID:-//Canadian Association of Research Libraries - ECPv6.15.20//NONSGML v1.0//EN
CALSCALE:GREGORIAN
METHOD:PUBLISH
X-ORIGINAL-URL:https://www.carl-abrc.ca
X-WR-CALDESC:Events for Canadian Association of Research Libraries
REFRESH-INTERVAL;VALUE=DURATION:PT1H
X-Robots-Tag:noindex
X-PUBLISHED-TTL:PT1H
BEGIN:VTIMEZONE
TZID:America/Toronto
BEGIN:DAYLIGHT
TZOFFSETFROM:-0500
TZOFFSETTO:-0400
TZNAME:EDT
DTSTART:20230312T070000
END:DAYLIGHT
BEGIN:STANDARD
TZOFFSETFROM:-0400
TZOFFSETTO:-0500
TZNAME:EST
DTSTART:20231105T060000
END:STANDARD
BEGIN:DAYLIGHT
TZOFFSETFROM:-0500
TZOFFSETTO:-0400
TZNAME:EDT
DTSTART:20240310T070000
END:DAYLIGHT
BEGIN:STANDARD
TZOFFSETFROM:-0400
TZOFFSETTO:-0500
TZNAME:EST
DTSTART:20241103T060000
END:STANDARD
BEGIN:DAYLIGHT
TZOFFSETFROM:-0500
TZOFFSETTO:-0400
TZNAME:EDT
DTSTART:20250309T070000
END:DAYLIGHT
BEGIN:STANDARD
TZOFFSETFROM:-0400
TZOFFSETTO:-0500
TZNAME:EST
DTSTART:20251102T060000
END:STANDARD
END:VTIMEZONE
BEGIN:VEVENT
DTSTART;TZID=America/Toronto:20241205T130000
DTEND;TZID=America/Toronto:20241205T143000
DTSTAMP:20260423T144802
CREATED:20250408T195657Z
LAST-MODIFIED:20250408T195657Z
UID:36667-1733403600-1733409000@www.carl-abrc.ca
SUMMARY:CARL Bibliometrics and Research Impact Community of Practice December Call – Lightning Talks\, Part 2
DESCRIPTION:Date: Thursday\, December 5\, 2024\nTime: 1:00 – 2:30 p.m. ET \nRegistration \nWe invite those across Canada interested in bibliometrics and research impact indicators to join this month’s call of the CARL Canadian Bibliometrics and Research Impact (BRI) Community of Practice.  \nThis month we are being joined by several of our colleagues for a series of lightning talks! This quick paced event will be a chance to hear from and chat with your colleagues about a broad range of topics related to Bibliometrics and Research Impact.  \nDebbie Chaves – How Can Smaller Universities Report Meaningful Research Metrics? \nBiography: Debbie Chaves is currently the Head of Copyright & Course Resources at Wilfrid Laurier University Library where she previously was the Science Librarian for 17 years. Her BSc was in Medical Physics\, a MSc and PhD in Biophysics and an MLIS from Western University. \nAbstract: Research metrics can measure a variety of results but is heavily dependent on the data contained within specific databases. Smaller research universities must report institutional metrics but may lack the necessary database subscriptions or the manpower to find and visualize appropriate data. To provide specific research metrics to the Office of Research\, the Library was tasked with examining institutional metrics from three different databases\, lens.org\, Web of Science and Open Alex to assess if the dashboard in lens.org would be a sufficient reporting tool. This presentation will step through the results of searching each database for the institution and limited to the 2023-2024 fiscal year. \nMarisa Ruccolo – Introducing the Research Horizon Navigator in InCites B&A \nBiography: Marisa holds an MLIS from McGill University as a second career and is the Customer Success Director for the Americas. She was hired by Clarivate to support Canada in both official languages. She is in the company’s Research & Analytics vertical. \nAbstract: Research Horizon Navigator is a new AI-native module within InCites Benchmarking & Analytics designed to empower academics\, funding agencies\, government research organizations and research strategists to discover new topics emerging from published literature that point to where future breakthroughs are likely to occur. Join the session to learn how you can use Horizon Navigator to: Identify emergent areas of research\, Innovate in areas with velocity\, and Invest in new interdisciplinary fields. \nRoger Reka & Miyang Roh – Demo: The UWindsor Open Access Journal Finder    \nBiographies: Roger Reka (he/him) is a collections librarian at the University of Windsor Leddy Library. Miyang Roh (she/her)\, called Settia\, is originally from South Korea and has been living in Canada for the past three years. She completed her bachelor’s in politics and economics and master’s in Urban Planning. With her MLIS studies she is determined to have a career in academic librarianship. On a lighter note\, she loves cats and has two kitties of her own. \nAbstract: Navigating the open access (OA) publishing landscape can be complex for researchers. To simplify this process\, we developed a Power BI tool that streamlines the search for suitable OA journals. This tool allows researchers to discover both diamond OA journals and subscription-based journals with open access publishing rights licensed by our institution. The interactive dashboard presents data on publication costs\, licensing terms\, and journal-level metrics\, equipping users to make informed decisions about where to publish. \nThis session will not be recorded.
URL:https://www.carl-abrc.ca/event/carl-bibliometrics-and-research-impact-community-of-practice-december-call-lightning-talks-part-2/
LOCATION:Online Event
CATEGORIES:Bibliometrics & Research Impact
ATTACH;FMTTYPE=image/jpeg:https://www.carl-abrc.ca/wp-content/uploads/2024/09/NewsFeaturedImage-1.jpg
END:VEVENT
END:VCALENDAR