BEGIN:VCALENDAR
VERSION:2.0
PRODID:-//Canadian Association of Research Libraries - ECPv6.15.20//NONSGML v1.0//EN
CALSCALE:GREGORIAN
METHOD:PUBLISH
X-WR-CALNAME:Canadian Association of Research Libraries
X-ORIGINAL-URL:https://www.carl-abrc.ca
X-WR-CALDESC:Events for Canadian Association of Research Libraries
REFRESH-INTERVAL;VALUE=DURATION:PT1H
X-Robots-Tag:noindex
X-PUBLISHED-TTL:PT1H
BEGIN:VTIMEZONE
TZID:America/Toronto
BEGIN:DAYLIGHT
TZOFFSETFROM:-0500
TZOFFSETTO:-0400
TZNAME:EDT
DTSTART:20240310T070000
END:DAYLIGHT
BEGIN:STANDARD
TZOFFSETFROM:-0400
TZOFFSETTO:-0500
TZNAME:EST
DTSTART:20241103T060000
END:STANDARD
BEGIN:DAYLIGHT
TZOFFSETFROM:-0500
TZOFFSETTO:-0400
TZNAME:EDT
DTSTART:20250309T070000
END:DAYLIGHT
BEGIN:STANDARD
TZOFFSETFROM:-0400
TZOFFSETTO:-0500
TZNAME:EST
DTSTART:20251102T060000
END:STANDARD
BEGIN:DAYLIGHT
TZOFFSETFROM:-0500
TZOFFSETTO:-0400
TZNAME:EDT
DTSTART:20260308T070000
END:DAYLIGHT
BEGIN:STANDARD
TZOFFSETFROM:-0400
TZOFFSETTO:-0500
TZNAME:EST
DTSTART:20261101T060000
END:STANDARD
END:VTIMEZONE
BEGIN:VEVENT
DTSTART;TZID=America/Toronto:20250204T130000
DTEND;TZID=America/Toronto:20250204T140000
DTSTAMP:20260423T114703
CREATED:20250408T201817Z
LAST-MODIFIED:20250408T201817Z
UID:36671-1738674000-1738677600@www.carl-abrc.ca
SUMMARY:CARL Bibliometrics and Research Impact Community of Practice February Call: A Dataset and Bibliometric Approach to Estimating Annual Article Processing Charges for Six Scholarly Publishers
DESCRIPTION:Date: Tuesday\, February 4\, 2025\nTime: 1:00pm – 2:00pm ET \nRegistration \nJoin the CARL Bibliometrics and Research Impact Community of Practice for a presentation and discussion on A Dataset and Bibliometric Approach to Estimating Annual Article Processing Charges for Six Scholarly Publishers. \nThe author-pays model\, in which publishers charge authors an article processing charge (APC) to publish their article open access\, is now a well-established and popular revenue source for publishers. Given the prevalence of APCs and emerging models like read-and-publish agreements\, reliable data is crucial for informed decision-making by funders\, libraries\, consortia\, and institutions. However\, estimating these fees is challenging due to the decentralized nature of scholarly publishing and limited transparency around these fees. This presentation by Leigh-Ann Butler and Eric Schares introduces an open dataset of APCs from six scholarly publishers over five years (2019-2023) and outlines the methodology and findings of a study estimating APC expenditures using this dataset. \nLeigh-Ann Butler is the Scholarly Communications Librarian at the University of Ottawa\, where she supports the library’s open publishing services\, the institutional repository\, and OA investments. She is a Research Associate at the ScholCommLab\, and board member of the Library Publishing Coalition. Prior to uOttawa\, she worked as a policy analyst on open science at the Natural Sciences and Engineering Research Council (NSERC). Her research focuses on scholarly communication\, open scholarship\, bibliometrics\, and science policy. \nEric Schares is the Engineering & Collection Analysis Librarian at Iowa State University in the US\, and a Research Associate with the ScholCommLab at the University of Ottawa\, Canada. He works to analyze publishing trends to support the open access transition in scholarly publishing. His research focuses on bibliometrics\, scholarly communication\, and open science. \nThis session will be recorded.
URL:https://www.carl-abrc.ca/event/carl-bibliometrics-and-research-impact-community-of-practice-february-call-a-dataset-and-bibliometric-approach-to-estimating-annual-article-processing-charges-for-six-scholarly-publishers/
LOCATION:Online Event
CATEGORIES:Bibliometrics & Research Impact
ATTACH;FMTTYPE=image/jpeg:https://www.carl-abrc.ca/wp-content/uploads/2024/09/NewsFeaturedImage-1.jpg
END:VEVENT
END:VCALENDAR