BEGIN:VCALENDAR
VERSION:2.0
PRODID:-//Canadian Association of Research Libraries - ECPv6.15.20//NONSGML v1.0//EN
CALSCALE:GREGORIAN
METHOD:PUBLISH
X-WR-CALNAME:Canadian Association of Research Libraries
X-ORIGINAL-URL:https://www.carl-abrc.ca
X-WR-CALDESC:Events for Canadian Association of Research Libraries
REFRESH-INTERVAL;VALUE=DURATION:PT1H
X-Robots-Tag:noindex
X-PUBLISHED-TTL:PT1H
BEGIN:VTIMEZONE
TZID:America/Toronto
BEGIN:DAYLIGHT
TZOFFSETFROM:-0500
TZOFFSETTO:-0400
TZNAME:EDT
DTSTART:20230312T070000
END:DAYLIGHT
BEGIN:STANDARD
TZOFFSETFROM:-0400
TZOFFSETTO:-0500
TZNAME:EST
DTSTART:20231105T060000
END:STANDARD
BEGIN:DAYLIGHT
TZOFFSETFROM:-0500
TZOFFSETTO:-0400
TZNAME:EDT
DTSTART:20240310T070000
END:DAYLIGHT
BEGIN:STANDARD
TZOFFSETFROM:-0400
TZOFFSETTO:-0500
TZNAME:EST
DTSTART:20241103T060000
END:STANDARD
BEGIN:DAYLIGHT
TZOFFSETFROM:-0500
TZOFFSETTO:-0400
TZNAME:EDT
DTSTART:20250309T070000
END:DAYLIGHT
BEGIN:STANDARD
TZOFFSETFROM:-0400
TZOFFSETTO:-0500
TZNAME:EST
DTSTART:20251102T060000
END:STANDARD
END:VTIMEZONE
BEGIN:VEVENT
DTSTART;TZID=America/Toronto:20240208T130000
DTEND;TZID=America/Toronto:20240208T140000
DTSTAMP:20260424T063822
CREATED:20250425T070718Z
LAST-MODIFIED:20250425T070718Z
UID:36827-1707397200-1707400800@www.carl-abrc.ca
SUMMARY:CARL Bibliometrics and Research Impact Canadian Community of Practice February Call – Learning to be Responsible: From Recognition to Rankings
DESCRIPTION:Date: February 8\, 2024 \nTime: 1:00 – 2:00 p.m. ET \nRegistration \nWe invite those across Canada interested in bibliometrics and research impact indicators\, to join this month’s call of the CARL Canadian Bibliometrics and Research Impact (BRI) Community of Practice. \nDrs. Erica Conte (Unity Health Toronto) and Baron Wolf (University of Kentucky) are members of the INORMS Research Evaluation Group\, which is an international group of research management societies that are working to ensure that research evaluation is meaningful\, responsible and effective. During this BRI Community of Practice session\, they will outline two major initiatives of the group: 1) the SCOPE framework for responsible research evaluation\, and 2) the More Than Our Rank global initiative. \nThe SCOPE framework for research evaluation is a five-stage model for evaluating responsibly. It is a practical step-by-step process designed to help research managers/administrators/librarians\, or anyone involved in conducting research evaluations\, in planning new evaluations as well as improving existing evaluations. The session will explain the framework and how to apply it to ensure we are evaluating our research organization and researchers in a responsible way. The More Than Our Rank initiative has been developed in response to some of the problematic features and effects of global university rankings. It provides an opportunity for academic institutions to highlight the many and various ways they serve their community and beyond that are not reflected in their various ranking positions. It is an initiative for institutions who are proud of their ranking position but also recognize the limitations of the indicators used and for those who feel that the rankings do not reflect their strengths or institutional mission. The session will explain More Than Our Rank and talk about the international recommendations to join this new initiative as a first step to a more responsible use of international rankings. \nSpeakers’ Bios \nErica Conte obtained her PhD in Physiology from Western University (Canada)\, and has diverse work experience in academics\, industry and research administration. Within these roles she has developed expertise in research assessment\, strategic planning\, communication\, institutional leadership\, as well as both traditional and philanthropic research funding. At Unity Health Toronto\, an affiliated research hospital of the University of Toronto\, she is currently the Director of Funding Strategy and Stewardship\, where she supports the full breadth of health research spanning fundamental science through to translational research\, health services/policy and knowledge translation. She has been an active member of the Canadian Association of Research Administrators (CARA) since 2014\, and is a member of the International Network of Research Management Societies (INORMS) Research Evaluation Group\, where she helps to develop tools to support responsible research assessment and improve our use of global and national rankings in research. \nBaron Wolf has experience working in institutional research\, effectiveness\, assessment and strategic planning within higher education. His work has focused on the use of data analytics to make strategic business decisions and process improvement. He is a member of the International Network of Research Management Societies (INORMS) Research Evaluation Working Group. Baron serves as the Assistant Vice President for Research & Chief of Staff at the University of Kentucky. In this role\, he serves senior leadership as an advisor on strategic priorities\, programs\, and services that support the research community across campus. In addition\, he is the Director of Research Analytics which maintains robust research business intelligence tools\, data analytics\, reporting\, analysis\, and assessment tools. \nCommunity Calls are organized by the CARL Canadian Bibliometrics and Research Impact Community of Practice Steering Committee: \n\nPhilippe Boisvert\, Université Laval\nLaura Bredahl\, University of Waterloo\nChristine Brodeur\, NRC / CNRC\nThane Chambers\, University of Alberta\nRachel Couban\, McMaster University\nMonique Grenier\, University of Victoria\nMindy Thuna\, University of Toronto
URL:https://www.carl-abrc.ca/event/carl-bibliometrics-and-research-impact-canadian-community-of-practice-february-call-learning-to-be-responsible-from-recognition-to-rankings/
LOCATION:Online Event
CATEGORIES:Bibliometrics & Research Impact
ATTACH;FMTTYPE=image/jpeg:https://www.carl-abrc.ca/wp-content/uploads/2024/09/NewsFeaturedImage-1.jpg
END:VEVENT
END:VCALENDAR