BEGIN:VCALENDAR
VERSION:2.0
PRODID:-//Canadian Association of Research Libraries - ECPv6.15.20//NONSGML v1.0//EN
CALSCALE:GREGORIAN
METHOD:PUBLISH
X-WR-CALNAME:Canadian Association of Research Libraries
X-ORIGINAL-URL:https://www.carl-abrc.ca
X-WR-CALDESC:Events for Canadian Association of Research Libraries
REFRESH-INTERVAL;VALUE=DURATION:PT1H
X-Robots-Tag:noindex
X-PUBLISHED-TTL:PT1H
BEGIN:VTIMEZONE
TZID:America/Toronto
BEGIN:DAYLIGHT
TZOFFSETFROM:-0500
TZOFFSETTO:-0400
TZNAME:EDT
DTSTART:20230312T070000
END:DAYLIGHT
BEGIN:STANDARD
TZOFFSETFROM:-0400
TZOFFSETTO:-0500
TZNAME:EST
DTSTART:20231105T060000
END:STANDARD
BEGIN:DAYLIGHT
TZOFFSETFROM:-0500
TZOFFSETTO:-0400
TZNAME:EDT
DTSTART:20240310T070000
END:DAYLIGHT
BEGIN:STANDARD
TZOFFSETFROM:-0400
TZOFFSETTO:-0500
TZNAME:EST
DTSTART:20241103T060000
END:STANDARD
BEGIN:DAYLIGHT
TZOFFSETFROM:-0500
TZOFFSETTO:-0400
TZNAME:EDT
DTSTART:20250309T070000
END:DAYLIGHT
BEGIN:STANDARD
TZOFFSETFROM:-0400
TZOFFSETTO:-0500
TZNAME:EST
DTSTART:20251102T060000
END:STANDARD
END:VTIMEZONE
BEGIN:VEVENT
DTSTART;TZID=America/Toronto:20240409T130000
DTEND;TZID=America/Toronto:20240409T140000
DTSTAMP:20260424T032600
CREATED:20250425T070554Z
LAST-MODIFIED:20250425T070554Z
UID:36826-1712667600-1712671200@www.carl-abrc.ca
SUMMARY:CARL Bibliometrics and Research Impact Canadian Community of Practice April Call –  Beyond Metrics: Knowledge Mobilization and Research Impact
DESCRIPTION:Date: April 9\, 2024 \nTime: 1:00 – 2:00 p.m. ET \nRegistration \nWe invite those across Canada interested in bibliometrics and research impact indicators\, to join this month’s call of the CARL Canadian Bibliometrics and Research Impact (BRI) Community of Practice. Invited speakers are Alison Moore (Simon Fraser University) & Lupin Battersby (Simon Fraser University). \nTo increase the speed and benefits of research having a positive impact on society\, researchers need robust and strategic knowledge mobilization plans. The Tri-agencies require knowledge mobilization and/or research impact statements that demonstrate feasibility and capability and go beyond traditional outputs. In this presentation\, led by the SFU Knowledge Mobilization Hub\, we will explore the essential elements needed for a good knowledge mobilization plan (who\, what\, why\, how\, and so what). We will address the intersection of knowledge mobilization and research assessment and how librarians can play a role in supporting knowledge mobilization. We will conclude this session with an interactive discussion of strategies\, tools\, metrics\, and indicators others have used to support researchers with knowledge mobilization and research impact assessment.   \nThis session will be recorded.
URL:https://www.carl-abrc.ca/event/carl-bibliometrics-and-research-impact-canadian-community-of-practice-april-call-beyond-metrics-knowledge-mobilization-and-research-impact/
LOCATION:Online Event
CATEGORIES:Bibliometrics & Research Impact
ATTACH;FMTTYPE=image/jpeg:https://www.carl-abrc.ca/wp-content/uploads/2024/09/NewsFeaturedImage-1.jpg
END:VEVENT
END:VCALENDAR