BEGIN:VCALENDAR
VERSION:2.0
PRODID:-//Canadian Association of Research Libraries - ECPv6.15.20//NONSGML v1.0//EN
CALSCALE:GREGORIAN
METHOD:PUBLISH
X-ORIGINAL-URL:https://www.carl-abrc.ca
X-WR-CALDESC:Events for Canadian Association of Research Libraries
REFRESH-INTERVAL;VALUE=DURATION:PT1H
X-Robots-Tag:noindex
X-PUBLISHED-TTL:PT1H
BEGIN:VTIMEZONE
TZID:America/Toronto
BEGIN:DAYLIGHT
TZOFFSETFROM:-0500
TZOFFSETTO:-0400
TZNAME:EDT
DTSTART:20230312T070000
END:DAYLIGHT
BEGIN:STANDARD
TZOFFSETFROM:-0400
TZOFFSETTO:-0500
TZNAME:EST
DTSTART:20231105T060000
END:STANDARD
BEGIN:DAYLIGHT
TZOFFSETFROM:-0500
TZOFFSETTO:-0400
TZNAME:EDT
DTSTART:20240310T070000
END:DAYLIGHT
BEGIN:STANDARD
TZOFFSETFROM:-0400
TZOFFSETTO:-0500
TZNAME:EST
DTSTART:20241103T060000
END:STANDARD
BEGIN:DAYLIGHT
TZOFFSETFROM:-0500
TZOFFSETTO:-0400
TZNAME:EDT
DTSTART:20250309T070000
END:DAYLIGHT
BEGIN:STANDARD
TZOFFSETFROM:-0400
TZOFFSETTO:-0500
TZNAME:EST
DTSTART:20251102T060000
END:STANDARD
END:VTIMEZONE
BEGIN:VEVENT
DTSTART;TZID=America/Toronto:20241023T130000
DTEND;TZID=America/Toronto:20241023T143000
DTSTAMP:20260423T185624
CREATED:20250408T192454Z
LAST-MODIFIED:20250408T194745Z
UID:36658-1729688400-1729693800@www.carl-abrc.ca
SUMMARY:CARL Bibliometrics and Research Impact Community of Practice October Call – Enhancing Citation Integrity through Bibliometrics
DESCRIPTION:Date: Wednesday\, October 23\, 2024\nTime: 1:00 – 2:30 p.m. ET \nRegistration \nWe invite those across Canada interested in bibliometrics and research impact indicators to join this month’s call of the CARL Bibliometrics and Research Impact (BRI) Community of Practice for a session on Enhancing Citation Integrity through Bibliometrics. \nIn the ever-changing world of scholarly publishing\, the increase in questionable journals poses significant risks to the credibility of academic work. This session\, led by Dr. Barbara S. Lancho Barrantes\, will explore the important role of bibliometrics in safeguarding research integrity. By analyzing citation patterns and publication practices\, researchers can effectively identify and address citation risks. Furthermore\, the emergence of various types of questionable citations\, such as citation cartels\, misleading citations\, over-citations\, phantom citations etc.\, complicates the landscape even more. This session will offer practical strategies for using bibliometrics to reduce these risks. Participants will learn to assess source quality critically\, recognise problematic citation patterns\, and use bibliometric tools to enhance their professional practice. \nBarbara S. Lancho Barrantes is a Scientometrician with a PhD in Bibliometrics from the University of Extremadura\, Spain. She currently serves as a Senior Lecturer in the Computing and Mathematics subject area at the University of Brighton in the United Kingdom. Her primary research focus is on citation analysis\, but she has also published on factors influencing research productivity across countries\, bibliometric mappings of Sustainable Development Goals (SDGs)\, and issues related to questionable publishing practices. \nIn addition to her research\, Barbara is also a dissertation supervisor at the Information School at the University of Sheffield and chairs the LIS Bibliometrics Committee\, which organizes the annual international LIS Bibliometrics conference. Her work continues to advance the field of bibliometrics and promote responsible research practices. \nThis session will be recorded.
URL:https://www.carl-abrc.ca/event/carl-bibliometrics-and-research-impact-community-of-practice-october-call-enhancing-citation-integrity-through-bibliometrics/
LOCATION:Online Event
CATEGORIES:Bibliometrics & Research Impact
ATTACH;FMTTYPE=image/jpeg:https://www.carl-abrc.ca/wp-content/uploads/2024/09/NewsFeaturedImage-1.jpg
END:VEVENT
END:VCALENDAR