BEGIN:VCALENDAR
VERSION:2.0
PRODID:-//Canadian Association of Research Libraries - ECPv6.15.20//NONSGML v1.0//EN
CALSCALE:GREGORIAN
METHOD:PUBLISH
X-ORIGINAL-URL:https://www.carl-abrc.ca
X-WR-CALDESC:Events for Canadian Association of Research Libraries
REFRESH-INTERVAL;VALUE=DURATION:PT1H
X-Robots-Tag:noindex
X-PUBLISHED-TTL:PT1H
BEGIN:VTIMEZONE
TZID:America/Toronto
BEGIN:DAYLIGHT
TZOFFSETFROM:-0500
TZOFFSETTO:-0400
TZNAME:EDT
DTSTART:20240310T070000
END:DAYLIGHT
BEGIN:STANDARD
TZOFFSETFROM:-0400
TZOFFSETTO:-0500
TZNAME:EST
DTSTART:20241103T060000
END:STANDARD
BEGIN:DAYLIGHT
TZOFFSETFROM:-0500
TZOFFSETTO:-0400
TZNAME:EDT
DTSTART:20250309T070000
END:DAYLIGHT
BEGIN:STANDARD
TZOFFSETFROM:-0400
TZOFFSETTO:-0500
TZNAME:EST
DTSTART:20251102T060000
END:STANDARD
BEGIN:DAYLIGHT
TZOFFSETFROM:-0500
TZOFFSETTO:-0400
TZNAME:EDT
DTSTART:20260308T070000
END:DAYLIGHT
BEGIN:STANDARD
TZOFFSETFROM:-0400
TZOFFSETTO:-0500
TZNAME:EST
DTSTART:20261101T060000
END:STANDARD
END:VTIMEZONE
BEGIN:VEVENT
DTSTART;TZID=America/Toronto:20250410T130000
DTEND;TZID=America/Toronto:20250410T143000
DTSTAMP:20260423T104152
CREATED:20250407T163455Z
LAST-MODIFIED:20250423T201701Z
UID:36643-1744290000-1744295400@www.carl-abrc.ca
SUMMARY:CARL Bibliometrics and Research Impact Community of Practice April Call – OpenAlex for Research Analytics
DESCRIPTION:Date: Thursday\, April 10\, 2025\nTime: 1:00 – 2:30 p.m. ET \nRegistration \nJoin the CARL Bibliometrics and Research Impact Community of Practice for a presentation and discussion on OpenAlex for Research Analytics with invited speaker Kyle Demes. \nInstitutions of all shapes and sizes rely on data about the activities\, outputs\, and impacts of their researchers\, as well as those at other institutions\, to drive their research strategy. Historically\, this data was only available through costly subscriptions to proprietary databases. Now\, all of this is possible with completely open databases\, but there aren’t yet many practical training opportunities with these tools. In this workshop\, Kyle will introduce OpenAlex as a source for research analytics and walk through common use analytics cases using OpenAlex. If you have specific use cases that you’d like to see covered\, let Kyle know in advance using this form: https://forms.gle/ztr9MnW8oA8Kyhgs5 \nBiography: Using data to make better decisions drives Kyle Demes. A former marine ecologist\, he has spent the last decade working with governments and universities on developing and implementing data-driven research strategies. As Chief Operating Officer of OurResearch\, he is working to build and sustain an open index of the world’s research ecosystem to ensure that analytics informing research strategies can be open and transparent. His spare time is split between his communities and the shorelines and mountains near Vancouver. \nThis session will be recorded.
URL:https://www.carl-abrc.ca/event/carl-bibliometrics-and-research-impact-community-of-practice-april-call-openalex-for-research-analytics/
LOCATION:Online Event
CATEGORIES:Bibliometrics & Research Impact
ATTACH;FMTTYPE=image/jpeg:https://www.carl-abrc.ca/wp-content/uploads/2024/09/NewsFeaturedImage-1.jpg
END:VEVENT
END:VCALENDAR