BEGIN:VCALENDAR
VERSION:2.0
PRODID:-//Canadian Association of Research Libraries - ECPv6.15.20//NONSGML v1.0//EN
CALSCALE:GREGORIAN
METHOD:PUBLISH
X-ORIGINAL-URL:https://www.carl-abrc.ca
X-WR-CALDESC:Events for Canadian Association of Research Libraries
REFRESH-INTERVAL;VALUE=DURATION:PT1H
X-Robots-Tag:noindex
X-PUBLISHED-TTL:PT1H
BEGIN:VTIMEZONE
TZID:America/Toronto
BEGIN:DAYLIGHT
TZOFFSETFROM:-0500
TZOFFSETTO:-0400
TZNAME:EDT
DTSTART:20240310T070000
END:DAYLIGHT
BEGIN:STANDARD
TZOFFSETFROM:-0400
TZOFFSETTO:-0500
TZNAME:EST
DTSTART:20241103T060000
END:STANDARD
BEGIN:DAYLIGHT
TZOFFSETFROM:-0500
TZOFFSETTO:-0400
TZNAME:EDT
DTSTART:20250309T070000
END:DAYLIGHT
BEGIN:STANDARD
TZOFFSETFROM:-0400
TZOFFSETTO:-0500
TZNAME:EST
DTSTART:20251102T060000
END:STANDARD
BEGIN:DAYLIGHT
TZOFFSETFROM:-0500
TZOFFSETTO:-0400
TZNAME:EDT
DTSTART:20260308T070000
END:DAYLIGHT
BEGIN:STANDARD
TZOFFSETFROM:-0400
TZOFFSETTO:-0500
TZNAME:EST
DTSTART:20261101T060000
END:STANDARD
END:VTIMEZONE
BEGIN:VEVENT
DTSTART;TZID=America/Toronto:20251023T130000
DTEND;TZID=America/Toronto:20251023T140000
DTSTAMP:20260423T020139
CREATED:20250918T181249Z
LAST-MODIFIED:20250918T181249Z
UID:38040-1761224400-1761228000@www.carl-abrc.ca
SUMMARY:Bibliometrics and Research Impact Community of Practice October Call: Unlocking Institutional Insights with Article Processing Charge (APC) Data from OpenAlex
DESCRIPTION:Date: October 23\, 2025\nTime: 1:00pm – 2:00pm ET \nRegistration \nIn this session\, Jack Young (Research Impact Librarian\, McMaster University) and Kelvin Lee (Research Software Developer\, McMaster University) will explore how institutions can leverage Article Processing Charge (APC) data from the OpenAlex database to better understand and manage open access publishing costs. They will discuss the value of APC data for libraries and research offices\, along with the challenges of tracking and interpreting this information. \nPresenters will demonstrate how to use the OpenAlex user interface to analyze basic institutional APC data and identify gaps or inaccuracies in the dataset. They will also introduce an open-source computational notebook developed to access the OpenAlex API\, enabling automated APC calculations tailored to your institution. \nWhether you are new to OpenAlex\, computational notebooks\, or simply looking to enhance your data workflows\, this session will provide a useful introduction to approaches that can support your open access strategy. \nJack Young (MLIS) is McMaster’s Research Impact & Bibliometrics Librarian\, supporting the use of bibliometric data to enhance the reporting and strategic planning practices of the University\, its researchers and research units. In this role\, Jack provides training and consultations on tools and techniques for tracking the impact of research and knowledge mobilization activities. He currently co-chairs the Canadian Association of Research Libraries’ (CARL) Community of Practice on Bibliometrics and Research Impact. \nKelvin Lee (BSc) is a Research Software Developer for Research Software Development and Support at McMaster University. Kelvin lends his computing science degree and experience in industry and academic research settings to support research and researchers through software development and training. \nThis session will be recorded.
URL:https://www.carl-abrc.ca/event/bibliometrics-and-research-impact-community-of-practice-october-call-unlocking-institutional-insights-with-article-processing-charge-apc-data-from-openalex/
LOCATION:Online Event
CATEGORIES:Bibliometrics & Research Impact
ATTACH;FMTTYPE=image/jpeg:https://www.carl-abrc.ca/wp-content/uploads/2025/04/CoP-Department-Image.jpg
END:VEVENT
END:VCALENDAR