BEGIN:VCALENDAR
VERSION:2.0
PRODID:-//Canadian Association of Research Libraries - ECPv6.15.20//NONSGML v1.0//EN
CALSCALE:GREGORIAN
METHOD:PUBLISH
X-ORIGINAL-URL:https://www.carl-abrc.ca
X-WR-CALDESC:Events for Canadian Association of Research Libraries
REFRESH-INTERVAL;VALUE=DURATION:PT1H
X-Robots-Tag:noindex
X-PUBLISHED-TTL:PT1H
BEGIN:VTIMEZONE
TZID:America/Toronto
BEGIN:DAYLIGHT
TZOFFSETFROM:-0500
TZOFFSETTO:-0400
TZNAME:EDT
DTSTART:20240310T070000
END:DAYLIGHT
BEGIN:STANDARD
TZOFFSETFROM:-0400
TZOFFSETTO:-0500
TZNAME:EST
DTSTART:20241103T060000
END:STANDARD
BEGIN:DAYLIGHT
TZOFFSETFROM:-0500
TZOFFSETTO:-0400
TZNAME:EDT
DTSTART:20250309T070000
END:DAYLIGHT
BEGIN:STANDARD
TZOFFSETFROM:-0400
TZOFFSETTO:-0500
TZNAME:EST
DTSTART:20251102T060000
END:STANDARD
BEGIN:DAYLIGHT
TZOFFSETFROM:-0500
TZOFFSETTO:-0400
TZNAME:EDT
DTSTART:20260308T070000
END:DAYLIGHT
BEGIN:STANDARD
TZOFFSETFROM:-0400
TZOFFSETTO:-0500
TZNAME:EST
DTSTART:20261101T060000
END:STANDARD
END:VTIMEZONE
BEGIN:VEVENT
DTSTART;TZID=America/Toronto:20251022T150000
DTEND;TZID=America/Toronto:20251022T160000
DTSTAMP:20260422T173137
CREATED:20251009T140628Z
LAST-MODIFIED:20251009T140628Z
UID:38089-1761145200-1761148800@www.carl-abrc.ca
SUMMARY:Open Education Community of Practice October Call – Open Education Meets AI : The Open GenAI Project from BCcampus
DESCRIPTION:Date: October 22\, 2025\nTime: 3:00pm-4:00pm ET \nRegistration \nThe Open Education Community of Practice is delighted to welcome Robynne Devine\, Elizabeth Childs\, and Harper Friedman for a presentation on the the Open GenAI Project. They will share the project’s goals\, introduce the AI-powered study companion prototype currently in development\, and explain how it will integrate with the BCcampus open textbook collection.  \nAs described in the project’s blog\, “The goal of this project will be to explore and experiment with a variety of open-source Gen AI tools and technologies that align with open education values\, including focusing on issues of equity\, accessibility\, and inclusivity while also offering offline access\, reducing environmental impact\, and ensuring student privacy.  BCcampus will work with partners in the develop of an ethically focused AI powered study tool prototype to compliment the BCcampus open textbook collection.” (Getting Started – The Open GenAI project) \nRobynne Devine\, Senior Project Manager\, Project Management Office\, BCcampus\nHarper Friedman\, Coordinator\, Open Textbook Publishing\, BCcampus\nElizabeth Childs\, Professor\, Program head\, Master of Arts in Learning and Technology\, Royal Roads University \nA discussion period will follow the presentation. All CARL members and non-members working in or interested in open education are welcome to join. \nIf you would like to be part of the Open Education Community of Practice and stay informed about upcoming events and activities\, subscribe to OE-COP-CARL-L\, the Open Education CoP discussion list. For more information\, visit the OE CoP webpage.
URL:https://www.carl-abrc.ca/event/open-education-community-of-practice-october-call-open-education-meets-ai-the-open-genai-project-from-bccampus/
LOCATION:Online Event
CATEGORIES:Artificial Intelligence,Open Education
ATTACH;FMTTYPE=image/jpeg:https://www.carl-abrc.ca/wp-content/uploads/2025/04/CoP-Department-Image.jpg
END:VEVENT
END:VCALENDAR