BEGIN:VCALENDAR
VERSION:2.0
PRODID:-//Canadian Association of Research Libraries - ECPv6.15.20//NONSGML v1.0//EN
CALSCALE:GREGORIAN
METHOD:PUBLISH
X-WR-CALNAME:Canadian Association of Research Libraries
X-ORIGINAL-URL:https://www.carl-abrc.ca
X-WR-CALDESC:Events for Canadian Association of Research Libraries
REFRESH-INTERVAL;VALUE=DURATION:PT1H
X-Robots-Tag:noindex
X-PUBLISHED-TTL:PT1H
BEGIN:VTIMEZONE
TZID:America/Toronto
BEGIN:DAYLIGHT
TZOFFSETFROM:-0500
TZOFFSETTO:-0400
TZNAME:EDT
DTSTART:20240310T070000
END:DAYLIGHT
BEGIN:STANDARD
TZOFFSETFROM:-0400
TZOFFSETTO:-0500
TZNAME:EST
DTSTART:20241103T060000
END:STANDARD
BEGIN:DAYLIGHT
TZOFFSETFROM:-0500
TZOFFSETTO:-0400
TZNAME:EDT
DTSTART:20250309T070000
END:DAYLIGHT
BEGIN:STANDARD
TZOFFSETFROM:-0400
TZOFFSETTO:-0500
TZNAME:EST
DTSTART:20251102T060000
END:STANDARD
BEGIN:DAYLIGHT
TZOFFSETFROM:-0500
TZOFFSETTO:-0400
TZNAME:EDT
DTSTART:20260308T070000
END:DAYLIGHT
BEGIN:STANDARD
TZOFFSETFROM:-0400
TZOFFSETTO:-0500
TZNAME:EST
DTSTART:20261101T060000
END:STANDARD
END:VTIMEZONE
BEGIN:VEVENT
DTSTART;TZID=America/Toronto:20251210T120000
DTEND;TZID=America/Toronto:20251210T130000
DTSTAMP:20260422T142144
CREATED:20251125T165014Z
LAST-MODIFIED:20251125T165014Z
UID:39033-1765368000-1765371600@www.carl-abrc.ca
SUMMARY:Open Education Community of Practice December Community Call - Keeping Accessibility in Mind: H5P and Other OER Creation Practices
DESCRIPTION:Date: December 10\, 2025\nTime: 12:00pm – 1:00pm ET \nRegistration \nThe Canadian Association of Research Libraries (CARL) is pleased to invite you to the December meeting of the Open Education Community of Practice. \nThis month\, we’re bringing the community together to explore practices for improving accessibility when creating H5P interactive content and in OER creation more generally. Our guest speakers are Shauna Roch and Jason Benoit from Fanshawe College’s OER Design Studio who will share their H5P Description Generator including the tool’s purpose\, design and how it supports accessibility. The H5P Generator is a part of a suite of apps developed to support the OER Design Studio. \nShauna Roch\, Project Lead\, OER Design Studio\, Fanshawe College\nJason Benoit\, Developer\, OER Design Studio\, Fanshawe College \nA discussion period will follow the presentation to share and learn from each other about practices around developing H5P with accessibility in mind\, along with other ways you bring accessibility into your work in Open Education. \nAll CARL members and non-members working in or interested in open education are welcome to join. \nIf you would like to be part of the Open Education Community of Practice and stay informed about upcoming events and activities\, subscribe to OE-COP-CARL-L\, the Open Education CoP discussion list. For more information\, visit the OE CoP webpage. \nThe session will not be recorded. It will be presented in English\, but we welcome questions and discussion in English or French.
URL:https://www.carl-abrc.ca/event/open-education-community-of-practice-december-community-call-keeping-accessibility-in-mind-h5p-and-other-oer-creation-practices/
LOCATION:Online Event
CATEGORIES:Open Education
ATTACH;FMTTYPE=image/jpeg:https://www.carl-abrc.ca/wp-content/uploads/2025/04/CoP-Department-Image.jpg
END:VEVENT
END:VCALENDAR