BEGIN:VCALENDAR
VERSION:2.0
PRODID:-//Canadian Association of Research Libraries - ECPv6.15.20//NONSGML v1.0//EN
CALSCALE:GREGORIAN
METHOD:PUBLISH
X-ORIGINAL-URL:https://www.carl-abrc.ca
X-WR-CALDESC:Events for Canadian Association of Research Libraries
REFRESH-INTERVAL;VALUE=DURATION:PT1H
X-Robots-Tag:noindex
X-PUBLISHED-TTL:PT1H
BEGIN:VTIMEZONE
TZID:America/Toronto
BEGIN:DAYLIGHT
TZOFFSETFROM:-0500
TZOFFSETTO:-0400
TZNAME:EDT
DTSTART:20240310T070000
END:DAYLIGHT
BEGIN:STANDARD
TZOFFSETFROM:-0400
TZOFFSETTO:-0500
TZNAME:EST
DTSTART:20241103T060000
END:STANDARD
BEGIN:DAYLIGHT
TZOFFSETFROM:-0500
TZOFFSETTO:-0400
TZNAME:EDT
DTSTART:20250309T070000
END:DAYLIGHT
BEGIN:STANDARD
TZOFFSETFROM:-0400
TZOFFSETTO:-0500
TZNAME:EST
DTSTART:20251102T060000
END:STANDARD
BEGIN:DAYLIGHT
TZOFFSETFROM:-0500
TZOFFSETTO:-0400
TZNAME:EDT
DTSTART:20260308T070000
END:DAYLIGHT
BEGIN:STANDARD
TZOFFSETFROM:-0400
TZOFFSETTO:-0500
TZNAME:EST
DTSTART:20261101T060000
END:STANDARD
END:VTIMEZONE
BEGIN:VEVENT
DTSTART;TZID=America/Toronto:20251113T150000
DTEND;TZID=America/Toronto:20251113T160000
DTSTAMP:20260422T173558
CREATED:20251103T153004Z
LAST-MODIFIED:20251103T153004Z
UID:38323-1763046000-1763049600@www.carl-abrc.ca
SUMMARY:Open Education Community of Practice November Community Call: Transformation of the OER Landscape: The Role of Artificial Intelligence
DESCRIPTION:Date: November 13\, 2025\nTime: 3:00 – 4:00 pm ET \nRegistration \nJoin us for a community-driven discussion on how AI is transforming the OER landscape. We will explore practical AI use cases in OER adoption\, development\, and promotion\, while examining frameworks and tools for licensing and attribution. \nAll CARL members and non-members working in or interested in open education are welcome to join. \nIf you would like to be part of the Open Education Community of Practice and stay informed about upcoming events and activities\, subscribe to OE-COP-CARL-L\, the Open Education CoP discussion list. For more information\, visit the OE CoP webpage. \nThis session will not be recorded.
URL:https://www.carl-abrc.ca/event/open-education-community-of-practice-november-community-call-transformation-of-the-oer-landscape-the-role-of-artificial-intelligence/
LOCATION:Online Event
CATEGORIES:Artificial Intelligence,Open Education
ATTACH;FMTTYPE=image/jpeg:https://www.carl-abrc.ca/wp-content/uploads/2025/04/CoP-Department-Image.jpg
END:VEVENT
END:VCALENDAR