BEGIN:VCALENDAR
VERSION:2.0
PRODID:-//Canadian Association of Research Libraries - ECPv6.15.20//NONSGML v1.0//EN
CALSCALE:GREGORIAN
METHOD:PUBLISH
X-WR-CALNAME:Canadian Association of Research Libraries
X-ORIGINAL-URL:https://www.carl-abrc.ca
X-WR-CALDESC:Events for Canadian Association of Research Libraries
REFRESH-INTERVAL;VALUE=DURATION:PT1H
X-Robots-Tag:noindex
X-PUBLISHED-TTL:PT1H
BEGIN:VTIMEZONE
TZID:America/Toronto
BEGIN:DAYLIGHT
TZOFFSETFROM:-0500
TZOFFSETTO:-0400
TZNAME:EDT
DTSTART:20250309T070000
END:DAYLIGHT
BEGIN:STANDARD
TZOFFSETFROM:-0400
TZOFFSETTO:-0500
TZNAME:EST
DTSTART:20251102T060000
END:STANDARD
BEGIN:DAYLIGHT
TZOFFSETFROM:-0500
TZOFFSETTO:-0400
TZNAME:EDT
DTSTART:20260308T070000
END:DAYLIGHT
BEGIN:STANDARD
TZOFFSETFROM:-0400
TZOFFSETTO:-0500
TZNAME:EST
DTSTART:20261101T060000
END:STANDARD
BEGIN:DAYLIGHT
TZOFFSETFROM:-0500
TZOFFSETTO:-0400
TZNAME:EDT
DTSTART:20270314T070000
END:DAYLIGHT
BEGIN:STANDARD
TZOFFSETFROM:-0400
TZOFFSETTO:-0500
TZNAME:EST
DTSTART:20271107T060000
END:STANDARD
END:VTIMEZONE
BEGIN:VEVENT
DTSTART;TZID=America/Toronto:20260402T130000
DTEND;TZID=America/Toronto:20260402T140000
DTSTAMP:20260422T093351
CREATED:20260312T134700Z
LAST-MODIFIED:20260312T134700Z
UID:40343-1775134800-1775138400@www.carl-abrc.ca
SUMMARY:Open Education Community of Practice April Community Call: OE Week Wrap-up and Round Table
DESCRIPTION:Date: April 2\, 2026\nTime: 1:00pm – 2:00pm ET \nRegistration \nWe hope Open Education Week was a great success for everyone this year! Join us for a wrap-up and roundtable session where we invite you to share notable events\, lectures\, workshops\, or activities you have participated in or facilitated. What lessons did you take away? If you hosted your own activities: what worked well\, what didn’t work well?  This session is an opportunity for us to share with each other what made Open Ed week great\, and what could make it even better. \nAll CARL members and non-members working in or interested in open education are welcome to join. \nIf you would like to be part of the Open Education Community of Practice and stay informed about upcoming events and activities\, subscribe to OE-COP-CARL-L\, the Open Education CoP discussion list. For more information\, visit the OE CoP webpage. \nThis session will not be recorded. Real-time captions and translation will be available.
URL:https://www.carl-abrc.ca/event/open-education-community-of-practice-april-community-call-oe-week-wrap-up-and-round-table/
LOCATION:Online Event
CATEGORIES:Open Education
ATTACH;FMTTYPE=image/png:https://www.carl-abrc.ca/wp-content/uploads/2026/03/oeweek-main_insta.png
END:VEVENT
END:VCALENDAR