BEGIN:VCALENDAR
VERSION:2.0
PRODID:-//Canadian Association of Research Libraries - ECPv6.15.20//NONSGML v1.0//EN
CALSCALE:GREGORIAN
METHOD:PUBLISH
X-WR-CALNAME:Canadian Association of Research Libraries
X-ORIGINAL-URL:https://www.carl-abrc.ca
X-WR-CALDESC:Events for Canadian Association of Research Libraries
REFRESH-INTERVAL;VALUE=DURATION:PT1H
X-Robots-Tag:noindex
X-PUBLISHED-TTL:PT1H
BEGIN:VTIMEZONE
TZID:America/Toronto
BEGIN:DAYLIGHT
TZOFFSETFROM:-0500
TZOFFSETTO:-0400
TZNAME:EDT
DTSTART:20250309T070000
END:DAYLIGHT
BEGIN:STANDARD
TZOFFSETFROM:-0400
TZOFFSETTO:-0500
TZNAME:EST
DTSTART:20251102T060000
END:STANDARD
BEGIN:DAYLIGHT
TZOFFSETFROM:-0500
TZOFFSETTO:-0400
TZNAME:EDT
DTSTART:20260308T070000
END:DAYLIGHT
BEGIN:STANDARD
TZOFFSETFROM:-0400
TZOFFSETTO:-0500
TZNAME:EST
DTSTART:20261101T060000
END:STANDARD
BEGIN:DAYLIGHT
TZOFFSETFROM:-0500
TZOFFSETTO:-0400
TZNAME:EDT
DTSTART:20270314T070000
END:DAYLIGHT
BEGIN:STANDARD
TZOFFSETFROM:-0400
TZOFFSETTO:-0500
TZNAME:EST
DTSTART:20271107T060000
END:STANDARD
END:VTIMEZONE
BEGIN:VEVENT
DTSTART;TZID=America/Toronto:20260309T120000
DTEND;TZID=America/Toronto:20260309T130000
DTSTAMP:20260425T072725
CREATED:20260303T205813Z
LAST-MODIFIED:20260306T214509Z
UID:40065-1773057600-1773061200@www.carl-abrc.ca
SUMMARY:Introducing the Open Journals Collective (OJC) - A community call co-hosted by LPC and LPCET
DESCRIPTION:Date: March 9\, 2026\nTime: 12:00pm – 1:00pm ET \nRegistration \nThe Open Journals Collective (OJC) is an international collective of libraries\, scholarly societies\, and small non-profit publishers working to advance support for diamond open access publishing at no cost to authors or readers. In January 2026\, the OJC officially launched its first call for investment offering libraries and funders the opportunity to join in directly supporting diamond scholarly journals. The mission of OJC is to build a sustainable future for scholarly journals by challenging the profit-making models of global corporate publishing and data systems. \nJoin us on March 9 at 12:00 pm ET to hear from Caroline Edwards\, Executive Director of the Open Library of Humanities and Open Journals Collective and (Full) Professor of Contemporary Literature and Culture at Birkbeck\, University of London\, about this exciting new initiative. \nThis community call is co-hosted by the Library Publishing Coalition and the CARL Library Publishing Community Engagement Team. \nAbout the CARL Library Publishing Community Engagement Team\nThe CARL Library Publishing Community Engagement Team (LPCET)\, established in 2024\, seeks to support Canadian library publishing practitioners in their functional roles and to grow Canadian expertise and capacity in this area. \nAbout the Library Publishing Coalition\nThe Library Publishing Coalition (LPC) is an independent\, community-led membership association of academic and research libraries and library consortia engaged in scholarly publishing. LPC facilitates collaboration across the library publishing community and actively engages with aligned organizations\, publishers\, and service providers to strengthen and expand library-based publishing.
URL:https://www.carl-abrc.ca/event/introducing-the-open-journals-collective-ojc-a-community-call-co-hosted-by-lpc-and-lpcet/
LOCATION:Online Event
CATEGORIES:Library Publishing
ATTACH;FMTTYPE=image/jpeg:https://www.carl-abrc.ca/wp-content/uploads/2026/02/CARL-Social-Media-Graphics-15.jpg
END:VEVENT
BEGIN:VEVENT
DTSTART;TZID=America/Toronto:20260310T130000
DTEND;TZID=America/Toronto:20260310T140000
DTSTAMP:20260425T072725
CREATED:20260127T175256Z
LAST-MODIFIED:20260127T210031Z
UID:39594-1773147600-1773151200@www.carl-abrc.ca
SUMMARY:Bibliometrics and Research Impact Community of Practice Article Club
DESCRIPTION:This month’s article: Dorta-González\, P. (2025). Which kind of research papers influence policymaking. Science and Public Policy\, 13. https://doi.org/10.1093/scipol/scaf069 \nDate: March 10\, 2026\nTime: 1:00pm-2:00pm ET \nThe Bibliometrics and Research Impact Community of Practice holds several Article Club Meetings each term. These are regular\, discussion-based gatherings focused on exploring key literature in bibliometrics\, scientometrics\, and research impact. At each meeting\, participants come together for an informal and collegial discussion around a selected article or document chosen for its relevance and interest. Attendees are encouraged to read the material in advance\, allowing for deeper\, more meaningful exchange and shared learning on topics that are often complex. \nTo receive invitations to upcoming Article Club meetings and related communications\, please contact Philippe Boisvert at philippe.boisvert@bibl.ulaval.ca. Learn more about the BRI CoP Article Club Meetings.
URL:https://www.carl-abrc.ca/event/bibliometrics-and-research-impact-community-of-practice-article-club-march2026/
LOCATION:Online Event
CATEGORIES:Bibliometrics & Research Impact,BRI Article Club
ATTACH;FMTTYPE=image/jpeg:https://www.carl-abrc.ca/wp-content/uploads/2026/01/BRI-CoP-Article-Club.jpg
END:VEVENT
BEGIN:VEVENT
DTSTART;TZID=America/Toronto:20260312T150000
DTEND;TZID=America/Toronto:20260312T160000
DTSTAMP:20260425T072725
CREATED:20260218T143703Z
LAST-MODIFIED:20260317T132704Z
UID:39926-1773327600-1773331200@www.carl-abrc.ca
SUMMARY:Workshop: Reclaiming Our Bytes: Local Custody of Web Archives in an Uncertain Age
DESCRIPTION:Date: March 12\, 2026\nTime: 3:00 – 4:00 pm ET \nRecording \nThe Canadian Association of Research Libraries Digital Preservation Working Group (CARL DPWG) is hosting a free online workshop on WARC repatriation. This workshop aims to build capacity for data sovereignty by empowering institutions across Canada to locally preserve their Archive-It data. \nThe Internet Archive is a bedrock of the open web\, but recent DDoS attacks remind us that even dedicated guardians are vulnerable. True digital sovereignty means ensuring our national memory lives under our own protection. In this session\, we’ll show you how to build a redundancy plan for your Archive-It data based on UVic Libraries’ experience\, walking through the Archive-It API (WASAPI) to repatriate your WARCs to local infrastructure\, then demonstrating how to maintain seamless access using pywb and other tools. Don’t wait for a 404 on history\, take action now! \nThe workshop will be led by Corey Davis\, Digital Preservation Librarian at the University of Victoria\, and facilitated by Sarah Lake\, CARL Visiting Program Officer for Digital Preservation. \nThis webinar will be held in English and will be recorded. Automatic live transcription in French will be available.
URL:https://www.carl-abrc.ca/event/workshop-reclaiming-our-bytes-local-custody-of-web-archives-in-an-uncertain-age/
LOCATION:Online Event
CATEGORIES:Digital Preservation
ATTACH;FMTTYPE=image/jpeg:https://www.carl-abrc.ca/wp-content/uploads/2026/02/Digital-Preservation-Graphic.jpg
END:VEVENT
BEGIN:VEVENT
DTSTART;TZID=America/Toronto:20260327T120000
DTEND;TZID=America/Toronto:20260327T133000
DTSTAMP:20260425T072725
CREATED:20260224T221120Z
LAST-MODIFIED:20260331T185523Z
UID:39946-1774612800-1774618200@www.carl-abrc.ca
SUMMARY:Assessment Community of Practice March Call: Writing Effective Key Performance Indicators
DESCRIPTION:Date: March 27\, 2026\nTime: 12:00 pm – 1:30 pm ET \nRecording \nCARL’s Library Assessment Community of Practice invites you to join an engaging event focused on developing and refining Key Performance Indicators (KPIs). This interactive session will introduce the fundamentals of KPIs\, their significance\, and strategies for effective implementation. Our presenter will share firsthand experiences using performance and results indicators in library assessment\, complemented by relatable stories and practical examples. Attendees will participate in collaborative group activities (via Zoom breakout rooms) to explore essential principles and develop KPIs relevant to their own institutions. \nLeo Appleton is the Director of Education for the School of Information\, Journalism and Communication at the University of Sheffield\, UK (ranking first worldwide for Library and Information Management studies). In addition to overseeing the school’s education portfolio\, Leo leads and teaches on the Librarianship and Library and Information Services Management MA programs\, covering a range of subjects\, including all aspects of library leadership and management. Prior to taking up his academic role\, Leo had a long career in academic libraries\, including several senior leadership roles. He has a PhD in Information Science and has researched and published on many library management subjects\, including performance measurement and quality assurance. He is the author of the book Libraries and Key Performance Indicators. \nThe presentation will be recorded. Real-time captions and translation will be available. Learn more about the Assessment Community of Practice.
URL:https://www.carl-abrc.ca/event/assessment-community-of-practice-march-call-writing-effective-key-performance-indicators/
LOCATION:Online Event
CATEGORIES:Assessment
ATTACH;FMTTYPE=image/jpeg:https://www.carl-abrc.ca/wp-content/uploads/2026/03/CARL-Social-Media-Graphics-13.jpg
END:VEVENT
END:VCALENDAR