BEGIN:VCALENDAR
VERSION:2.0
PRODID:-//Canadian Association of Research Libraries - ECPv6.15.20//NONSGML v1.0//EN
CALSCALE:GREGORIAN
METHOD:PUBLISH
X-ORIGINAL-URL:https://www.carl-abrc.ca
X-WR-CALDESC:Events for Canadian Association of Research Libraries
REFRESH-INTERVAL;VALUE=DURATION:PT1H
X-Robots-Tag:noindex
X-PUBLISHED-TTL:PT1H
BEGIN:VTIMEZONE
TZID:America/Toronto
BEGIN:DAYLIGHT
TZOFFSETFROM:-0500
TZOFFSETTO:-0400
TZNAME:EDT
DTSTART:20250309T070000
END:DAYLIGHT
BEGIN:STANDARD
TZOFFSETFROM:-0400
TZOFFSETTO:-0500
TZNAME:EST
DTSTART:20251102T060000
END:STANDARD
BEGIN:DAYLIGHT
TZOFFSETFROM:-0500
TZOFFSETTO:-0400
TZNAME:EDT
DTSTART:20260308T070000
END:DAYLIGHT
BEGIN:STANDARD
TZOFFSETFROM:-0400
TZOFFSETTO:-0500
TZNAME:EST
DTSTART:20261101T060000
END:STANDARD
BEGIN:DAYLIGHT
TZOFFSETFROM:-0500
TZOFFSETTO:-0400
TZNAME:EDT
DTSTART:20270314T070000
END:DAYLIGHT
BEGIN:STANDARD
TZOFFSETFROM:-0400
TZOFFSETTO:-0500
TZNAME:EST
DTSTART:20271107T060000
END:STANDARD
END:VTIMEZONE
BEGIN:VEVENT
DTSTART;TZID=America/Toronto:20260505T130000
DTEND;TZID=America/Toronto:20260505T140000
DTSTAMP:20260425T104958
CREATED:20260127T193836Z
LAST-MODIFIED:20260127T210331Z
UID:39612-1777986000-1777989600@www.carl-abrc.ca
SUMMARY:Bibliometrics and Research Impact Community of Practice Article Club
DESCRIPTION:This month’s article: Nowakowska\, M. (2025). A comprehensive approach to preprocessing data for bibliometric analysis. Scientometrics\, 130(9)\, 5191–5225. https://doi.org/10.1007/s11192-025-05415-x \nDate: May 5\, 2026\nTime: 1:00pm-2:00pm ET \nThe Bibliometrics and Research Impact Community of Practice holds several Article Club Meetings each term. These are regular\, discussion-based gatherings focused on exploring key literature in bibliometrics\, scientometrics\, and research impact. At each meeting\, participants come together for an informal and collegial discussion around a selected article or document chosen for its relevance and interest. Attendees are encouraged to read the material in advance\, allowing for deeper\, more meaningful exchange and shared learning on topics that are often complex. \nTo receive invitations to upcoming Article Club meetings and related communications\, please contact Philippe Boisvert at philippe.boisvert@bibl.ulaval.ca. Learn more about the BRI CoP Article Club Meetings.
URL:https://www.carl-abrc.ca/evenement/bibliometrics-and-research-impact-community-of-practice-article-club-may2026/
LOCATION:Online Event
CATEGORIES:Bibliometrics & Research Impact,BRI Article Club
ATTACH;FMTTYPE=image/jpeg:https://www.carl-abrc.ca/wp-content/uploads/2026/01/BRI-CoP-Article-Club.jpg
END:VEVENT
BEGIN:VEVENT
DTSTART;TZID=America/Toronto:20260507T120000
DTEND;TZID=America/Toronto:20260507T130000
DTSTAMP:20260425T104958
CREATED:20260423T183254Z
LAST-MODIFIED:20260423T183518Z
UID:40949-1778155200-1778158800@www.carl-abrc.ca
SUMMARY:Am I Missing Something? Understanding How to Improve Repository Discoverability
DESCRIPTION:Date: May 7\, 2026\nTime: 12:00pm – 1:00pm ET \nRegistration \nInstitutional repositories are designed to support the integration of local research outputs into the broader scholarly communication ecosystem. However\, repository discoverability isn’t automatic. To ensure our repositories are easily discoverable\, we must prioritize persistent identifiers\, maintain high-quality metadata\, and promote interoperability. \nHowever\, significant challenges remain. For instance\, widely used many popular commercial databases exclude many non-English\, regional\, less “prestigious” journals\, or grey literature shared in repositories. Additionally\, inconsistent\, inaccurate\, and/or incomplete metadata can pose significant issues for item discoverability. We promote the use of persistent identifiers like ORCID\, DOI\, and ROR\, but there are also several misunderstandings and myths associated with these identifiers. \nThis panel event aims to bridge the gap between the underlying infrastructure and practical implementation\, guiding you on how to check and improve your repository practices to achieve greater interoperability of research outputs. We will feature John Aspler (ORCID) and Juan Pablo Alperin (ScholCommLab at SFU\, PKP) to help us connect big-picture goals for universal indexing to the day-to-day work of running scholarly communications infrastructure. \nThis session will be recorded. Real-time captions and translation will be available. \nJuan Pablo Alperin \nJuan Pablo Alperin is the Scientific Director of the Public Knowledge Project (PKP)\, and Associate Professor in the Publishing Program\, and the Co-Director of the Scholarly Communications Lab (ScholCommLab) at Simon Fraser University. Dr. Alperin is an established researcher of scholarly communications\, known for bringing evidence-based perspectives to pragmatic solutions in support of open access and open science. He has published dozens of peer-reviewed publications and delivered countless presentations on related topics. He also serves on the boards and steering committees of international organizations\, including the Open Access Scholarly Publishing Association (OASPA) and OpenAlex. His work focuses on making scholarly communication more equitable\, inclusive\, and publicly engaged\, particularly across Latin America and the Global South. \nJohn Aspler \nManager of the Canadian Persistent Identifier (PID) Program at the Canadian Research Knowledge Network (CRKN)\, has led Canada’s PID Program (including the development and implementation of a National PID Strategy) for the last six years. In this role\, he has facilitated numerous international collaborations\, pushing forward PIDs in systems used globally\, and he currently sits on the DataCite Board of Directors. In 2021\, he graduated from McGill with a PhD in Neuroscience\, where his passion for public science literacy led him to work on projects about neuroscience in the news. At CRKN\, John combines his love of scholarship with a love of libraries by dedicating himself to community service and knowledge access.
URL:https://www.carl-abrc.ca/evenement/canadian-repositories-community-of-practice-may-call-2026/
LOCATION:Online Event
CATEGORIES:Repositories
ATTACH;FMTTYPE=image/jpeg:https://www.carl-abrc.ca/wp-content/uploads/2026/04/CARL-Social-Media-Graphics-19.jpg
END:VEVENT
BEGIN:VEVENT
DTSTART;TZID=America/Toronto:20260525T000000
DTEND;TZID=America/Toronto:20260528T235959
DTSTAMP:20260425T104958
CREATED:20260126T160819Z
LAST-MODIFIED:20260421T185016Z
UID:39564-1779667200-1780012799@www.carl-abrc.ca
SUMMARY:2026 Spring Member Meeting
DESCRIPTION:« All Events\n \n\n	2026 Spring Member Meeting\n\n			May 25\, 2026\n	  –\n	May 28\, 2026\n	 \nThe Canadian Association of Research Libraries is pleased to invite member directors to the 2026 Spring Member Meeting. This annual gathering serves as a vital platform for the exchange of ideas\, strategic planning\, and collaborative discussions that shape the future of research libraries across Canada. \n					\n				\n									2026 Spring Member Meeting Program (PDF)\n					 \n\n	Alt Hotel St. John’s\n\n125 Water Street\n		\n		St. John's\,\n	Newfoundland and Labrador\n	A1C 5X4\n	Canada\n\n\n	+ Google Map \n\n					\n			(709) 383-2125			\n	 \n\n	View Venue Website \n\n\n					\n				Accommodation\n		\n				\n				Program Schedule\n		\n				\n				Session Descriptions\n		\n				\n				Guest Speakers\n		\n				\n				Recent Meetings\n		 \nHotel Details\nAlt Hotel St. John’s125 Water Street\, St. John’s\, NL A1C 5X4Tel: (709) 383-2125Hotel Website \nA block of rooms has been reserved for May 24-29\, 2026\, at a preferred rate of $189 to $199 CAD per night. This special rate will be available until Wednesday\, April 10\, 2026\, or until the room block is sold out\, whichever comes first. We recommend booking early to ensure availability. \n					\n				\n									Booking Link\n					\n					\n				Monday May 25\n		\n				\n				Tuesday May 26\n		\n				\n				Wednesday May 27\n		\n				\n				Thursday May 28\n		 \nTBD. \nTBD. \nTBD. \nTBD. \n					\n				\n									2026 Spring Member Meeting Program (PDF)\n					 \nTBD. \nTBD. \n\n\n2025 Fall Member Meeting\nNovember 17\, 2025 – November 20\, 2025 at Fairmont Le Château Montebello\n\n2025 Spring Member Meeting\nMay 26\, 2025 –  09:00 – May 29\, 2025 –  16:00  EDT  at Inn at the Forks\, Winnipeg\, Manitoba\n\n2024 Fall Member Meeting\nNovember 18\, 2024 – November 20\, 2024 at Delta Hotels Ottawa City Centre\n\n2024 Spring Member Meeting\nApril 22\, 2024 – April 25\, 2024 at Montreal\, Quebec\n\n2023 Fall Member Meeting\nNovember 27\, 2023 – November 30\, 2023 at Fairmont Le Château Montebello\n\n\n					\n									See All Member Meetings\n					 \nHotel Details\nAlt Hotel St. John’s125 Water Street\, St. John’s\, NL A1C 5X4Tel: (709) 383-2125Hotel Website \nA block of rooms has been reserved for May 24-29\, 2026\, at a preferred rate of $189 to $199 CAD per night. This special rate will be available until Wednesday\, April 10\, 2026\, or until the room block is sold out\, whichever comes first. We recommend booking early to ensure availability. \n					\n				\n									Booking Link\n					\n					\n				Monday May 25\n		\n				\n				Tuesday May 26\n		\n				\n				Wednesday May 27\n		\n				\n				Thursday May 28\n		 \nTBD. \nTBD. \nTBD. \nTBD. \nTBD. \nTBD. \nTBD. \nTBD. \n					\n				\n									2026 Spring Member Meeting Program (PDF)\n					 \nTBD. \nTBD. \n\n\n2025 Fall Member Meeting\nNovember 17\, 2025 – November 20\, 2025 at Fairmont Le Château Montebello\n\n2025 Spring Member Meeting\nMay 26\, 2025 –  09:00 – May 29\, 2025 –  16:00  EDT  at Inn at the Forks\, Winnipeg\, Manitoba\n\n2024 Fall Member Meeting\nNovember 18\, 2024 – November 20\, 2024 at Delta Hotels Ottawa City Centre\n\n2024 Spring Member Meeting\nApril 22\, 2024 – April 25\, 2024 at Montreal\, Quebec\n\n2023 Fall Member Meeting\nNovember 27\, 2023 – November 30\, 2023 at Fairmont Le Château Montebello\n\n\n					\n									See All Member Meetings
URL:https://www.carl-abrc.ca/evenement/2026-spring-member-meeting/
LOCATION:Alt Hotel St. John’s\, 125 Water Street\, St. John's\, Newfoundland and Labrador\, A1C 5X4\, Canada
CATEGORIES:Member Meetings
ATTACH;FMTTYPE=image/jpeg:https://www.carl-abrc.ca/wp-content/uploads/2025/11/2025-Fall-Member-Meeting-Group-Shot-scaled.jpg
END:VEVENT
END:VCALENDAR